BEGIN:VCALENDAR
VERSION:2.0
CALSCALE:GREGORIAN
METHOD:PUBLISH
X-WR-TIMEZONE:Australia/Sydney
BEGIN:VTIMEZONE
TZID:Australia/Sydney
BEGIN:STANDARD
TZNAME:AEST
END:STANDARD
END:VTIMEZONE
BEGIN:VEVENT
DTSTART;TZID=Australia/Sydney:20200320
DTEND;TZID=Australia/Sydney:20200320
DTSTAMP:20200302T093711
UID:283
SUMMARY:Young Leaders Conference - Melbourne
DESCRIPTION:




Grade 5 &amp;amp; 6 Students to Exhibition Centre - Melbourne


SEQUENCE:0
STATUS:CONFIRMED
TRANSP:OPAQUE
END:VEVENT
END:VCALENDAR